BEGIN:VCALENDAR
VERSION:2.0
CALSCALE:GREGORIAN
PRODID:adamgibbons/ics
METHOD:PUBLISH
X-PUBLISHED-TTL:PT1H
BEGIN:VEVENT
UID:1145@mkeshows.com
SUMMARY:YOWK / Ace Parker / Suvi / Matt Andrus
DTSTAMP:20260421T113726Z
DTSTART:20260430T000000Z
URL:https://mkeshows.com/event/yowk-ace-parker-suvi-matt-andrus
GEO:42.9529484;-87.8597089931877
LOCATION:X-Ray Arcade - 5036 S Packard Ave\, Cudahy\, WI 53110
STATUS:CONFIRMED
CATEGORIES:All Ages,Hip Hop,Rap,Singer Songwriter
END:VEVENT
BEGIN:VEVENT
UID:1122@mkeshows.com
SUMMARY:Sam Shackleton
DTSTAMP:20260421T113726Z
DTSTART:20260506T010000Z
URL:https://mkeshows.com/event/sam-shackleton
GEO:42.9529484;-87.8597089931877
LOCATION:X-Ray Arcade - 5036 S Packard Ave\, Cudahy\, WI 53110
STATUS:CONFIRMED
CATEGORIES:All Ages,Folk,Singer Songwriter
END:VEVENT
BEGIN:VEVENT
UID:1060@mkeshows.com
SUMMARY:Kings by Day / Would You Kindly? / Pinellas Park / Letters to the K
	ing
DTSTAMP:20260421T113726Z
DTSTART:20260519T000000Z
URL:https://mkeshows.com/event/kings-by-day-would-you-kindly-pinellas-park-
	letters-to-the-king
GEO:42.9529484;-87.8597089931877
LOCATION:X-Ray Arcade - 5036 S Packard Ave\, Cudahy\, WI 53110
STATUS:CONFIRMED
CATEGORIES:All Ages,Alt Rock,Hard Rock,Singer Songwriter
END:VEVENT
END:VCALENDAR
